BEGIN:VCALENDAR
VERSION:2.0
PRODID:-//Green Schools Nova Scotia - ECPv6.15.20//NONSGML v1.0//EN
CALSCALE:GREGORIAN
METHOD:PUBLISH
X-ORIGINAL-URL:https://www.greenschoolsns.ca
X-WR-CALDESC:Events for Green Schools Nova Scotia
REFRESH-INTERVAL;VALUE=DURATION:PT1H
X-Robots-Tag:noindex
X-PUBLISHED-TTL:PT1H
BEGIN:VTIMEZONE
TZID:America/Halifax
BEGIN:DAYLIGHT
TZOFFSETFROM:-0400
TZOFFSETTO:-0300
TZNAME:ADT
DTSTART:20220313T060000
END:DAYLIGHT
BEGIN:STANDARD
TZOFFSETFROM:-0300
TZOFFSETTO:-0400
TZNAME:AST
DTSTART:20221106T050000
END:STANDARD
BEGIN:DAYLIGHT
TZOFFSETFROM:-0400
TZOFFSETTO:-0300
TZNAME:ADT
DTSTART:20230312T060000
END:DAYLIGHT
BEGIN:STANDARD
TZOFFSETFROM:-0300
TZOFFSETTO:-0400
TZNAME:AST
DTSTART:20231105T050000
END:STANDARD
BEGIN:DAYLIGHT
TZOFFSETFROM:-0400
TZOFFSETTO:-0300
TZNAME:ADT
DTSTART:20240310T060000
END:DAYLIGHT
BEGIN:STANDARD
TZOFFSETFROM:-0300
TZOFFSETTO:-0400
TZNAME:AST
DTSTART:20241103T050000
END:STANDARD
END:VTIMEZONE
BEGIN:VEVENT
DTSTART;VALUE=DATE:20231026
DTEND;VALUE=DATE:20231101
DTSTAMP:20260419T105544
CREATED:20230831T201931Z
LAST-MODIFIED:20230831T201931Z
UID:10000017-1698278400-1698796799@www.greenschoolsns.ca
SUMMARY:Virtual Engagement - Phantom Power 15 minute
DESCRIPTION:🎃 Get Ready for Phantom Power – Special 15-Minute Event! 👻🔌 \n  \nCalling all energy-conscious students and teachers! 🌟 Join us for an electrifying experience during our Phantom Power event. Make sure to have your microphones muted and cameras on (if available) as we delve into the world of energy conservation. \n  \nPhantom power is lurking in your classrooms and homes\, quietly wasting energy and your hard-earned money. But don’t worry\, we’re here to help you banish these energy-draining phantoms! 💪 \n  \nIn just 15 minutes\, we’ll unravel the mysteries of energy – where it comes from\, how it’s wasted\, and most importantly\, how you can become a Green Hero and conquer phantom power. Get ready to groove\, learn\, and even perform some spooky actions to answer our energy-related questions! \n  \nThis interactive webinar will keep you moving and engaged\, ensuring a fun and enlightening experience. If any supplies are needed\, we’ll send you an easy-to-source list via email. Together\, let’s empower our students to take charge of their energy usage and fight those pesky phantoms! 🏆🌍
URL:https://www.greenschoolsns.ca/event/virtual-engagement-phantom-power-15-minute/
CATEGORIES:Special Event Virtual Engagement
END:VEVENT
END:VCALENDAR