BEGIN:VCALENDAR
VERSION:2.0
PRODID:-//Green Schools Nova Scotia - ECPv6.15.20//NONSGML v1.0//EN
CALSCALE:GREGORIAN
METHOD:PUBLISH
X-WR-CALNAME:Green Schools Nova Scotia
X-ORIGINAL-URL:https://www.greenschoolsns.ca
X-WR-CALDESC:Events for Green Schools Nova Scotia
REFRESH-INTERVAL;VALUE=DURATION:PT1H
X-Robots-Tag:noindex
X-PUBLISHED-TTL:PT1H
BEGIN:VTIMEZONE
TZID:America/Halifax
BEGIN:DAYLIGHT
TZOFFSETFROM:-0400
TZOFFSETTO:-0300
TZNAME:ADT
DTSTART:20220313T060000
END:DAYLIGHT
BEGIN:STANDARD
TZOFFSETFROM:-0300
TZOFFSETTO:-0400
TZNAME:AST
DTSTART:20221106T050000
END:STANDARD
BEGIN:DAYLIGHT
TZOFFSETFROM:-0400
TZOFFSETTO:-0300
TZNAME:ADT
DTSTART:20230312T060000
END:DAYLIGHT
BEGIN:STANDARD
TZOFFSETFROM:-0300
TZOFFSETTO:-0400
TZNAME:AST
DTSTART:20231105T050000
END:STANDARD
BEGIN:DAYLIGHT
TZOFFSETFROM:-0400
TZOFFSETTO:-0300
TZNAME:ADT
DTSTART:20240310T060000
END:DAYLIGHT
BEGIN:STANDARD
TZOFFSETFROM:-0300
TZOFFSETTO:-0400
TZNAME:AST
DTSTART:20241103T050000
END:STANDARD
END:VTIMEZONE
BEGIN:VEVENT
DTSTART;VALUE=DATE:20231211
DTEND;VALUE=DATE:20231221
DTSTAMP:20260421T050557
CREATED:20230831T202136Z
LAST-MODIFIED:20230831T202333Z
UID:10000018-1702252800-1703116799@www.greenschoolsns.ca
SUMMARY:Virtual Engagement - Winter craftinar
DESCRIPTION:🌟 Join Our Winter Craftinar – Virtual Engagement! ❄️✨ \nGet ready to craft up some holiday magic with us! 🎨🎁 Our Winter Craftinar is here\, and we can’t wait to have you join in the festive fun. Mute your microphones and turn on your cameras (if possible) as we dive into a creative journey together! \n  \nThe holidays are all about love and giving\, but sometimes\, that leads to unnecessary waste. Let’s change that narrative! Our Engagement Officer will guide students through a wonderful session\, shedding light on the waste generated during the holidays. But fear not\, we’re also here to show you how to turn that around with our amazing crafts: Origami Trees\, DIY envelopes\, and Gift Of Time homemade cards! 🌲💌 \n  \nJoin us for an interactive experience that will keep you moving and engaged. And hey\, if you need supplies\, we’ve got you covered! Look out for our email with an easy-to-find list. Let’s craft\, connect\, and spread love while keeping our Earth beautiful. 🌍💚
URL:https://www.greenschoolsns.ca/event/virtual-engagement-winter-craftinar/
CATEGORIES:Special Event Virtual Engagement
END:VEVENT
BEGIN:VEVENT
DTSTART;TZID=America/Halifax:20231220T093000
DTEND;TZID=America/Halifax:20231220T103000
DTSTAMP:20260421T050557
CREATED:20230831T192331Z
LAST-MODIFIED:20230831T193956Z
UID:10000006-1703064600-1703068200@www.greenschoolsns.ca
SUMMARY:Fri-YAY Group Webinar - Winter Craftinar
DESCRIPTION:🎄❄️ Fri – YAY Delight! Join Our Winter Craftinar on December 20! 🌟🎁 \n  \n🎨✨ It’s that magical time of the year when love\, warmth\, and creativity come together. 🎅❤️ And guess what? Our Winter Craftinar on December 20 is here to sprinkle some extra joy into your holiday season! 🌟🎉 \n  \nAs we embrace the holiday spirit\, let’s also remember the importance of sustainability and mindful choices. 🌍♻️ Join us for an enchanting session where we’ll explore how to express our love for family\, friends\, and our planet while minimizing waste. 🎄✉️ During this webinar\, our Engagement Officer will lead us through an exciting journey\, unveiling the potential waste that can accumulate during the holiday season. 🎁🎉 \n  \nBut wait\, the fun doesn’t stop there! 🌟🎨 Get ready to unleash your creativity as we dive into crafting wonderland with not one\, not two\, but three amazing crafts: Origami Trees\, DIY envelopes\, and the heartwarming Gift Of Time homemade cards! 💌💝 These crafts aren’t just about creating beautiful pieces; they’re a symbol of love\, care\, and respect for our planet. 🌿🎈 \n  \nJoin us as we infuse the holiday festivities with energy efficiency vibes\, spread love\, and make a positive impact on our beautiful Earth. 🌎🎅❤️ Let’s create meaningful memories and beautiful crafts that truly embody the spirit of the season. 🌟🎨
URL:https://www.greenschoolsns.ca/event/fri-yay-group-webinar-winter-craftinar/
CATEGORIES:Fri-YAY Group Webinar
END:VEVENT
END:VCALENDAR