BEGIN:VCALENDAR
VERSION:2.0
PRODID:-//Green Schools Nova Scotia - ECPv6.15.20//NONSGML v1.0//EN
CALSCALE:GREGORIAN
METHOD:PUBLISH
X-WR-CALNAME:Green Schools Nova Scotia
X-ORIGINAL-URL:https://www.greenschoolsns.ca
X-WR-CALDESC:Events for Green Schools Nova Scotia
REFRESH-INTERVAL;VALUE=DURATION:PT1H
X-Robots-Tag:noindex
X-PUBLISHED-TTL:PT1H
BEGIN:VTIMEZONE
TZID:UTC
BEGIN:STANDARD
TZOFFSETFROM:+0000
TZOFFSETTO:+0000
TZNAME:UTC
DTSTART:20230101T000000
END:STANDARD
END:VTIMEZONE
BEGIN:VTIMEZONE
TZID:America/Halifax
BEGIN:DAYLIGHT
TZOFFSETFROM:-0400
TZOFFSETTO:-0300
TZNAME:ADT
DTSTART:20230312T060000
END:DAYLIGHT
BEGIN:STANDARD
TZOFFSETFROM:-0300
TZOFFSETTO:-0400
TZNAME:AST
DTSTART:20231105T050000
END:STANDARD
BEGIN:DAYLIGHT
TZOFFSETFROM:-0400
TZOFFSETTO:-0300
TZNAME:ADT
DTSTART:20240310T060000
END:DAYLIGHT
BEGIN:STANDARD
TZOFFSETFROM:-0300
TZOFFSETTO:-0400
TZNAME:AST
DTSTART:20241103T050000
END:STANDARD
BEGIN:DAYLIGHT
TZOFFSETFROM:-0400
TZOFFSETTO:-0300
TZNAME:ADT
DTSTART:20250309T060000
END:DAYLIGHT
BEGIN:STANDARD
TZOFFSETFROM:-0300
TZOFFSETTO:-0400
TZNAME:AST
DTSTART:20251102T050000
END:STANDARD
END:VTIMEZONE
BEGIN:VEVENT
DTSTART;VALUE=DATE:20240304
DTEND;VALUE=DATE:20240309
DTSTAMP:20260419T140729
CREATED:20230831T203052Z
LAST-MODIFIED:20230831T203052Z
UID:10000022-1709510400-1709942399@www.greenschoolsns.ca
SUMMARY:Virtual Engagement - Sun’s Out\, Lights Out craftinar
DESCRIPTION:☀️🌼 Embrace the Sun’s Extra Hour: Join Our Virtual Craftinar! 🌞🌸 \nAs the clocks spring forward\, we’re in for a change that’s all about energy and sunshine! ☀️✨ Green Schools invites you to our engaging virtual craftinar where we’ll explore the energy-saving possibilities of Daylight Savings Time. \nDiscover how this extra hour of sun can be a gift for energy conservation this spring. Join us for an enlightening conversation about energy usage and ways to reduce waste. Plus\, get ready to move with a fun interactive activity that will keep you energized! \nAnd that’s not all! We’re diving into creativity with an origami flower craft made from recycled paper. 🌼 Let’s embrace the season of renewal and learn how to make our days brighter while using energy efficiently. \nLet’s make the most of the sun’s extended stay. Stay tuned for more details on this illuminating event! 🌿☀️
URL:https://www.greenschoolsns.ca/event/virtual-engagement-suns-out-lights-out-craftinar/
CATEGORIES:Special Event Virtual Engagement
END:VEVENT
BEGIN:VEVENT
DTSTART;VALUE=DATE:20240305
DTEND;VALUE=DATE:20240308
DTSTAMP:20260419T140729
CREATED:20230831T202858Z
LAST-MODIFIED:20230831T202858Z
UID:10000021-1709596800-1709855999@www.greenschoolsns.ca
SUMMARY:Virtual Engagement - World Energy Efficiency Day 15 minute
DESCRIPTION:🌍💡 Dive into Energy Efficiency: Join our 15-Minute Virtual Engagement! 💚🎉 \nReady to boost your energy efficiency knowledge in just 15 minutes? Look no further! On World Energy Efficiency Day\, we’re thrilled to invite you to a dynamic virtual engagement that packs a punch of insights and actions. \nDiscover how small changes can make a big impact on energy consumption and our planet. From practical tips to interactive activities\, we’ve got your energy-saving journey covered. Let’s celebrate a greener future together on this special day! 🌱💡 \nStay tuned for more details and get ready to dive into a world of energy efficiency. Let’s make every day a more efficient and sustainable one! 🌿
URL:https://www.greenschoolsns.ca/event/virtual-engagement-world-energy-efficiency-day-15-minute/
CATEGORIES:Special Event Virtual Engagement
END:VEVENT
END:VCALENDAR