BEGIN:VCALENDAR
VERSION:2.0
PRODID:-//Green Schools Nova Scotia - ECPv6.15.20//NONSGML v1.0//EN
CALSCALE:GREGORIAN
METHOD:PUBLISH
X-ORIGINAL-URL:https://www.greenschoolsns.ca
X-WR-CALDESC:Events for Green Schools Nova Scotia
REFRESH-INTERVAL;VALUE=DURATION:PT1H
X-Robots-Tag:noindex
X-PUBLISHED-TTL:PT1H
BEGIN:VTIMEZONE
TZID:America/Halifax
BEGIN:DAYLIGHT
TZOFFSETFROM:-0400
TZOFFSETTO:-0300
TZNAME:ADT
DTSTART:20230312T060000
END:DAYLIGHT
BEGIN:STANDARD
TZOFFSETFROM:-0300
TZOFFSETTO:-0400
TZNAME:AST
DTSTART:20231105T050000
END:STANDARD
BEGIN:DAYLIGHT
TZOFFSETFROM:-0400
TZOFFSETTO:-0300
TZNAME:ADT
DTSTART:20240310T060000
END:DAYLIGHT
BEGIN:STANDARD
TZOFFSETFROM:-0300
TZOFFSETTO:-0400
TZNAME:AST
DTSTART:20241103T050000
END:STANDARD
BEGIN:DAYLIGHT
TZOFFSETFROM:-0400
TZOFFSETTO:-0300
TZNAME:ADT
DTSTART:20250309T060000
END:DAYLIGHT
BEGIN:STANDARD
TZOFFSETFROM:-0300
TZOFFSETTO:-0400
TZNAME:AST
DTSTART:20251102T050000
END:STANDARD
END:VTIMEZONE
BEGIN:VEVENT
DTSTART;VALUE=DATE:20240321
DTEND;VALUE=DATE:20240323
DTSTAMP:20260419T142550
CREATED:20230831T203252Z
LAST-MODIFIED:20230831T203529Z
UID:10000023-1710979200-1711151999@www.greenschoolsns.ca
SUMMARY:Virtual Engagement -  Earth Hour 15 minute
DESCRIPTION:🌍🕯️ Shine a Light on Earth Hour with Us! Join Our Virtual Engagement! 🌿✨ \nAs the world prepares to dim its lights for a brighter future\, Green Schools is thrilled to invite you to our special Earth Hour virtual engagement! 🕯️🌏 \nMark your calendars for March 21-22 and join us for an enlightening 15 minutes of energy-conscious discussion. With microphones muted and cameras on (if you have one)\, we’ll explore the significance of Earth Hour\, a global movement that encourages us to power down and reflect on our energy consumption. \nLearn how small actions can create a big impact\, from reducing your energy use to making mindful choices for our planet. Join the conversation\, answer questions\, and engage in this interactive session to become an Earth Hour advocate! \nDon’t miss this opportunity to be a part of a worldwide phenomenon right from your screen. Stay tuned for more details on this illuminating event! 🌟🌍
URL:https://www.greenschoolsns.ca/event/virtual-engagement-earth-hour-15-minute/
CATEGORIES:Special Event Virtual Engagement
END:VEVENT
BEGIN:VEVENT
DTSTART;TZID=America/Halifax:20240322T093000
DTEND;TZID=America/Halifax:20240322T103000
DTSTAMP:20260419T142550
CREATED:20230831T195452Z
LAST-MODIFIED:20230831T195452Z
UID:10000012-1711099800-1711103400@www.greenschoolsns.ca
SUMMARY:Fri-YAY Group Webinar - Earth Hour
DESCRIPTION:🌍🕯️ Fri – YAY: Embrace Earth Hour! 🌏🌟 \n  \nGet ready to make a meaningful impact on our planet! 🌿 On March 22\, join us for a special Fri – YAY session all about Earth Hour! 🌍✨ \n  \nEarth Hour\, a global phenomenon that began in Australia in 2007\, brings communities together to power down and raise awareness about energy consumption. 🕯️💡 Millions around the world participate\, and it’s your chance to make a difference too! \n  \nOur engaging webinar will shed light on the significance of mindful energy use and how even small changes can create a big positive impact on the environment. Let’s discuss ways to participate in Earth Hour and consider extending the impact with a Lights Off Thursday initiative! 🌟🌿 \n  \nMark your calendars and switch off those lights for a brighter\, greener future! 🌱🌕
URL:https://www.greenschoolsns.ca/event/fri-yay-group-webinar-earth-hour/
CATEGORIES:Fri-YAY Group Webinar
END:VEVENT
END:VCALENDAR