BEGIN:VCALENDAR
VERSION:2.0
PRODID:-//Green Schools Nova Scotia - ECPv6.15.20//NONSGML v1.0//EN
CALSCALE:GREGORIAN
METHOD:PUBLISH
X-WR-CALNAME:Green Schools Nova Scotia
X-ORIGINAL-URL:https://www.greenschoolsns.ca
X-WR-CALDESC:Events for Green Schools Nova Scotia
REFRESH-INTERVAL;VALUE=DURATION:PT1H
X-Robots-Tag:noindex
X-PUBLISHED-TTL:PT1H
BEGIN:VTIMEZONE
TZID:America/Halifax
BEGIN:DAYLIGHT
TZOFFSETFROM:-0400
TZOFFSETTO:-0300
TZNAME:ADT
DTSTART:20230312T060000
END:DAYLIGHT
BEGIN:STANDARD
TZOFFSETFROM:-0300
TZOFFSETTO:-0400
TZNAME:AST
DTSTART:20231105T050000
END:STANDARD
BEGIN:DAYLIGHT
TZOFFSETFROM:-0400
TZOFFSETTO:-0300
TZNAME:ADT
DTSTART:20240310T060000
END:DAYLIGHT
BEGIN:STANDARD
TZOFFSETFROM:-0300
TZOFFSETTO:-0400
TZNAME:AST
DTSTART:20241103T050000
END:STANDARD
BEGIN:DAYLIGHT
TZOFFSETFROM:-0400
TZOFFSETTO:-0300
TZNAME:ADT
DTSTART:20250309T060000
END:DAYLIGHT
BEGIN:STANDARD
TZOFFSETFROM:-0300
TZOFFSETTO:-0400
TZNAME:AST
DTSTART:20251102T050000
END:STANDARD
END:VTIMEZONE
BEGIN:VEVENT
DTSTART;VALUE=DATE:20240408
DTEND;VALUE=DATE:20240427
DTSTAMP:20260419T155023
CREATED:20230831T203505Z
LAST-MODIFIED:20230831T203505Z
UID:10000024-1712534400-1714175999@www.greenschoolsns.ca
SUMMARY:Virtual Engagement - Earth Day
DESCRIPTION:🌍🌱 Embrace the Spirit of Earth Day: Join Our Virtual Engagement! \nStep into the world of Earth Day and its remarkable impact\, April 8 to 26! 🌿🌱 Join us in an enlightening Earth Day virtual engagement that unravels the beginnings of this global movement and its far-reaching effects. \nFrom the inception of Earth Day to its ripple of positive change around the world\, our engagement brings you closer to its essence. Engage in a meaningful conversation with your students\, as we discuss actionable steps to support our planet on Earth Day and beyond. \nEmpower your students to become Green Heros\, making a difference not only on a dedicated day but through their everyday choices. Let’s embark on this educational journey that paves the way for a greener future. 🌎🌳
URL:https://www.greenschoolsns.ca/event/virtual-engagement-earth-day/
CATEGORIES:Special Event Virtual Engagement
END:VEVENT
END:VCALENDAR