BEGIN:VCALENDAR
VERSION:2.0
PRODID:-//Green Schools Nova Scotia - ECPv6.15.20//NONSGML v1.0//EN
CALSCALE:GREGORIAN
METHOD:PUBLISH
X-ORIGINAL-URL:https://www.greenschoolsns.ca
X-WR-CALDESC:Events for Green Schools Nova Scotia
REFRESH-INTERVAL;VALUE=DURATION:PT1H
X-Robots-Tag:noindex
X-PUBLISHED-TTL:PT1H
BEGIN:VTIMEZONE
TZID:America/Halifax
BEGIN:DAYLIGHT
TZOFFSETFROM:-0400
TZOFFSETTO:-0300
TZNAME:ADT
DTSTART:20230312T060000
END:DAYLIGHT
BEGIN:STANDARD
TZOFFSETFROM:-0300
TZOFFSETTO:-0400
TZNAME:AST
DTSTART:20231105T050000
END:STANDARD
BEGIN:DAYLIGHT
TZOFFSETFROM:-0400
TZOFFSETTO:-0300
TZNAME:ADT
DTSTART:20240310T060000
END:DAYLIGHT
BEGIN:STANDARD
TZOFFSETFROM:-0300
TZOFFSETTO:-0400
TZNAME:AST
DTSTART:20241103T050000
END:STANDARD
BEGIN:DAYLIGHT
TZOFFSETFROM:-0400
TZOFFSETTO:-0300
TZNAME:ADT
DTSTART:20250309T060000
END:DAYLIGHT
BEGIN:STANDARD
TZOFFSETFROM:-0300
TZOFFSETTO:-0400
TZNAME:AST
DTSTART:20251102T050000
END:STANDARD
END:VTIMEZONE
BEGIN:VEVENT
DTSTART;TZID=America/Halifax:20240531T093000
DTEND;TZID=America/Halifax:20240531T103000
DTSTAMP:20260419T171751
CREATED:20230831T200354Z
LAST-MODIFIED:20230831T200354Z
UID:10000016-1717147800-1717151400@www.greenschoolsns.ca
SUMMARY:Fri-YAY Group Webinar - Ocean Plastic
DESCRIPTION:🌊 Fri – YAY: Tackling Ocean Plastic! 🌊 \n  \nDive into the world of ocean conservation on May 31 with our Ocean Plastic Fri – YAY session! 🐠🌎 \n  \nPlastic has become an integral part of our lives\, but its excessive use has led to significant environmental challenges\, especially in our oceans. Join us as we shed light on this pressing issue and explore practical ways to reduce plastic usage both at school and at home. \n  \nOur Engagement Officer will guide you through a discussion about the impact of plastics on our precious planet. We’ll brainstorm creative alternatives to plastic and discover how simple changes in our daily habits can contribute to a cleaner and healthier ocean environment. 🌊♻️ \n  \nAs World Ocean Day approaches on June 8\, let’s come together to learn\, inspire\, and take action for the well-being of our oceans. 🐬🌊 
URL:https://www.greenschoolsns.ca/event/fri-yay-group-webinar-ocean-plastic/
CATEGORIES:Fri-YAY Group Webinar
END:VEVENT
END:VCALENDAR