BEGIN:VCALENDAR
VERSION:2.0
PRODID:-//Green Schools Nova Scotia - ECPv6.15.20//NONSGML v1.0//EN
CALSCALE:GREGORIAN
METHOD:PUBLISH
X-ORIGINAL-URL:https://www.greenschoolsns.ca
X-WR-CALDESC:Events for Green Schools Nova Scotia
REFRESH-INTERVAL;VALUE=DURATION:PT1H
X-Robots-Tag:noindex
X-PUBLISHED-TTL:PT1H
BEGIN:VTIMEZONE
TZID:America/Halifax
BEGIN:DAYLIGHT
TZOFFSETFROM:-0400
TZOFFSETTO:-0300
TZNAME:ADT
DTSTART:20250309T060000
END:DAYLIGHT
BEGIN:STANDARD
TZOFFSETFROM:-0300
TZOFFSETTO:-0400
TZNAME:AST
DTSTART:20251102T050000
END:STANDARD
BEGIN:DAYLIGHT
TZOFFSETFROM:-0400
TZOFFSETTO:-0300
TZNAME:ADT
DTSTART:20260308T060000
END:DAYLIGHT
BEGIN:STANDARD
TZOFFSETFROM:-0300
TZOFFSETTO:-0400
TZNAME:AST
DTSTART:20261101T050000
END:STANDARD
BEGIN:DAYLIGHT
TZOFFSETFROM:-0400
TZOFFSETTO:-0300
TZNAME:ADT
DTSTART:20270314T060000
END:DAYLIGHT
BEGIN:STANDARD
TZOFFSETFROM:-0300
TZOFFSETTO:-0400
TZNAME:AST
DTSTART:20271107T050000
END:STANDARD
END:VTIMEZONE
BEGIN:VEVENT
DTSTART;VALUE=DATE:20260327
DTEND;VALUE=DATE:20260328
DTSTAMP:20260419T110115
CREATED:20260119T172535Z
LAST-MODIFIED:20260119T172535Z
UID:10000035-1774569600-1774655999@www.greenschoolsns.ca
SUMMARY:Fri-YAY Group Webinar - Energy and Plants
DESCRIPTION:🍀 Fri-YAY: Energy and Plants 🪴 \nGet ready to dive into the world of energy and plants! 🌿✨ \nPlants are nature’s energy wizards—they convert sunlight into life-sustaining energy. During our engaging group webinar\, we’ll unravel the mysteries of energy and discuss its sources and significance. \nWe will take a deep dive into the plant life cycle\, exploring where plants harness their energy and how human actions can influence their well-being. Let’s discover the simple yet impactful ways we can ensure a harmonious balance between our energy use and plant health. 🌻🔋 \nSign-up here to join our enlightening discussion\, and let’s empower ourselves to create greener\, more sustainable\, energy-efficient lifestyles
URL:https://www.greenschoolsns.ca/event/fri-yay-group-webinar-energy-and-plants/
CATEGORIES:Fri-YAY Group Webinar
END:VEVENT
END:VCALENDAR