BEGIN:VCALENDAR
VERSION:2.0
PRODID:-//Green Schools Nova Scotia - ECPv6.15.20//NONSGML v1.0//EN
CALSCALE:GREGORIAN
METHOD:PUBLISH
X-WR-CALNAME:Green Schools Nova Scotia
X-ORIGINAL-URL:https://www.greenschoolsns.ca
X-WR-CALDESC:Events for Green Schools Nova Scotia
REFRESH-INTERVAL;VALUE=DURATION:PT1H
X-Robots-Tag:noindex
X-PUBLISHED-TTL:PT1H
BEGIN:VTIMEZONE
TZID:America/Halifax
BEGIN:DAYLIGHT
TZOFFSETFROM:-0400
TZOFFSETTO:-0300
TZNAME:ADT
DTSTART:20230312T060000
END:DAYLIGHT
BEGIN:STANDARD
TZOFFSETFROM:-0300
TZOFFSETTO:-0400
TZNAME:AST
DTSTART:20231105T050000
END:STANDARD
BEGIN:DAYLIGHT
TZOFFSETFROM:-0400
TZOFFSETTO:-0300
TZNAME:ADT
DTSTART:20240310T060000
END:DAYLIGHT
BEGIN:STANDARD
TZOFFSETFROM:-0300
TZOFFSETTO:-0400
TZNAME:AST
DTSTART:20241103T050000
END:STANDARD
BEGIN:DAYLIGHT
TZOFFSETFROM:-0400
TZOFFSETTO:-0300
TZNAME:ADT
DTSTART:20250309T060000
END:DAYLIGHT
BEGIN:STANDARD
TZOFFSETFROM:-0300
TZOFFSETTO:-0400
TZNAME:AST
DTSTART:20251102T050000
END:STANDARD
END:VTIMEZONE
BEGIN:VEVENT
DTSTART;TZID=America/Halifax:20240105T093000
DTEND;TZID=America/Halifax:20240105T103000
DTSTAMP:20260419T092949
CREATED:20230831T192623Z
LAST-MODIFIED:20230831T194018Z
UID:10000007-1704447000-1704450600@www.greenschoolsns.ca
SUMMARY:Fri-YAY Group Engagement - Energy\, Weather & Climate Change
DESCRIPTION:🌞❄️ Fri – YAY Learning Alert! Join Us on January 5! 🌍🌦️ \n  \n🧠🌟 Ready for a captivating journey through the realms of energy\, weather\, and the incredible dance of climate change? 🌞🌦️ Mark your calendars because on January 5\, we’re diving into an exciting Fri – YAY session that promises to light up your curiosity and expand your knowledge! 🌍🔍 \n  \nLet’s start with ENERGY – the powerhouse behind everything we do! ⚡️🔋 We’ll uncover the mysteries of energy\, its sources\, and how it shapes our world. But wait\, there’s more! 🌬️🌧️ Ever wondered about the difference between climate and weather? Let’s demystify these terms and explore their dynamic relationship. 🌡️❄️ \n  \nAnd speaking of climate\, brace yourselves for the grand finale – the thrilling connection between energy use and the changing climate! 🌍📈 We’ll unveil the role energy plays in the intricate web of climate change and how our choices impact the environment we live in. 🌿🌎 \n  \nJoin us for an engaging and enlightening session that promises aha moments and a deeper understanding of the world around us. 🌟🌏 Let’s embark on this journey together and uncover the fascinating interplay of energy\, weather\, and climate change. See you there\, bright minds! 🚀🌞
URL:https://www.greenschoolsns.ca/event/fri-yay-group-engagement-energy-weather-climate-change/
CATEGORIES:Fri-YAY Group Webinar
END:VEVENT
BEGIN:VEVENT
DTSTART;TZID=America/Halifax:20240119T093000
DTEND;TZID=America/Halifax:20240119T103000
DTSTAMP:20260419T092949
CREATED:20230831T193635Z
LAST-MODIFIED:20230831T194057Z
UID:10000008-1705656600-1705660200@www.greenschoolsns.ca
SUMMARY:Fri-YAY Group Webinar - Life Before Electricity
DESCRIPTION:🕰️🔦 Fri – YAY Time Travel! Join Us on January 19! ⚡️🌟 \n  \n⏳✨ Curious about life before the age of glowing screens and electricity? Ever wondered how people managed to stay entertained and connected in a world without power outlets? 🌍🔌 Prepare for a captivating journey back in time as we explore “Life Before Electricity” in our next Fri – YAY adventure on January 19! 🚀🔦 \n  \nGet ready for an interactive guessing game that delves into the devices and marvels that people relied upon before electricity became an everyday luxury. 🕰️🎲 From ingenious contraptions to clever solutions\, we’ll unravel the secrets of how our ancestors navigated their lives in a pre-electricity era. 🌆🏞️ \n  \nBut that’s not all – brace yourselves for the ultimate revelation of how some of those devices evolved with the power of electricity! ⚡️💡 Join our engaging discussion to learn about the transition and the energy that fuels our modern-day conveniences. 🌟📚 \n  \nDon’t miss this unique opportunity to journey through time and explore the fascinating history of human innovation. Let’s embark on this unforgettable adventure together! See you there\, time explorers! ⚡️🕰️
URL:https://www.greenschoolsns.ca/event/fri-yay-group-webinar/
CATEGORIES:Fri-YAY Group Webinar
END:VEVENT
BEGIN:VEVENT
DTSTART;VALUE=DATE:20240130
DTEND;VALUE=DATE:20240203
DTSTAMP:20260419T092949
CREATED:20230831T202308Z
LAST-MODIFIED:20230831T202308Z
UID:10000019-1706572800-1706918399@www.greenschoolsns.ca
SUMMARY:Virtual Engagement - National Sweater Day 15 minute
DESCRIPTION:❄️ Get Cozy for National Sweater Day – Virtual Engagement! 🧥🌟 \nGet ready to bundle up and join us for an exciting event! 🎉✨ National Sweater Day is just around the corner\, and we’re thrilled to have you on board. Mute those microphones and turn on your cameras (if you can) because it’s going to be a sweater-weather celebration like no other! \nIt’s time to dial down the heat and turn up the energy! Did you know that on National Sweater Day\, we’re inviting you to embrace your comfiest sweaters instead of cranking up the thermostat? 🌡️💚 Fun fact: If all Canadians lowered their thermostats by just two degrees\, it would lead to a whopping reduction of FOUR MEGATONS in greenhouse gas emissions. That’s a big step toward a greener world! \nJoin us for an interactive session filled with movement and engaging activities. Need some supplies? Keep an eye out for an email containing an easy-to-find list. Let’s cozy up\, learn\, and make a positive impact together! 🌍🔆
URL:https://www.greenschoolsns.ca/event/virtual-engagement-national-sweater-day-15-minute/
CATEGORIES:Special Event Virtual Engagement
END:VEVENT
END:VCALENDAR