BEGIN:VCALENDAR
VERSION:2.0
PRODID:-//Green Schools Nova Scotia - ECPv6.15.20//NONSGML v1.0//EN
CALSCALE:GREGORIAN
METHOD:PUBLISH
X-ORIGINAL-URL:https://www.greenschoolsns.ca
X-WR-CALDESC:Events for Green Schools Nova Scotia
REFRESH-INTERVAL;VALUE=DURATION:PT1H
X-Robots-Tag:noindex
X-PUBLISHED-TTL:PT1H
BEGIN:VTIMEZONE
TZID:America/Halifax
BEGIN:DAYLIGHT
TZOFFSETFROM:-0400
TZOFFSETTO:-0300
TZNAME:ADT
DTSTART:20240310T060000
END:DAYLIGHT
BEGIN:STANDARD
TZOFFSETFROM:-0300
TZOFFSETTO:-0400
TZNAME:AST
DTSTART:20241103T050000
END:STANDARD
BEGIN:DAYLIGHT
TZOFFSETFROM:-0400
TZOFFSETTO:-0300
TZNAME:ADT
DTSTART:20250309T060000
END:DAYLIGHT
BEGIN:STANDARD
TZOFFSETFROM:-0300
TZOFFSETTO:-0400
TZNAME:AST
DTSTART:20251102T050000
END:STANDARD
BEGIN:DAYLIGHT
TZOFFSETFROM:-0400
TZOFFSETTO:-0300
TZNAME:ADT
DTSTART:20260308T060000
END:DAYLIGHT
BEGIN:STANDARD
TZOFFSETFROM:-0300
TZOFFSETTO:-0400
TZNAME:AST
DTSTART:20261101T050000
END:STANDARD
END:VTIMEZONE
BEGIN:VEVENT
DTSTART;VALUE=DATE:20251205
DTEND;VALUE=DATE:20251206
DTSTAMP:20260419T104841
CREATED:20251128T204411Z
LAST-MODIFIED:20251128T204503Z
UID:10000026-1764892800-1764979199@www.greenschoolsns.ca
SUMMARY:Fri-YAY Group Webinar – Needs vs Wants
DESCRIPTION:🌟Fri-YAY: Needs vs Wants🌟 \nMark your calendars for Friday December 5th\, when we will embark on the journey of “Needs vs Wants”. \nLife’s choices can sometimes be puzzling\, especially when it comes to distinguishing what is truly a needed vs what we desire. That’s where we dive into Maslow’s Hierarchy of Needs! Join us as we unravel the layers of human needs and how each unique identity shapes their requirements. \nBut wait\, there’s more! We’ll take a deep dive into the world of wants and the art of moderation. Let’s uncover the secrets to responsible consumption paired with the joys of mindful living. \nJoin us for an interactive and thought-provoking session where we will share insights\, engage in lively discussions\, and learn to make conscious choices that align with our values. See you on December 5th for a virtual session that is sure to empower you with knowledge to make mindful choices in a world full of options. \nSIGN-UP HERE!
URL:https://www.greenschoolsns.ca/event/fri-yay-group-webinar-needs-vs-wants-2/
CATEGORIES:Fri-YAY Group Webinar
LOCATION:
END:VEVENT
END:VCALENDAR