BEGIN:VCALENDAR
VERSION:2.0
PRODID:-//Green Schools Nova Scotia - ECPv6.15.20//NONSGML v1.0//EN
CALSCALE:GREGORIAN
METHOD:PUBLISH
X-WR-CALNAME:Green Schools Nova Scotia
X-ORIGINAL-URL:https://www.greenschoolsns.ca
X-WR-CALDESC:Events for Green Schools Nova Scotia
REFRESH-INTERVAL;VALUE=DURATION:PT1H
X-Robots-Tag:noindex
X-PUBLISHED-TTL:PT1H
BEGIN:VTIMEZONE
TZID:America/Halifax
BEGIN:DAYLIGHT
TZOFFSETFROM:-0400
TZOFFSETTO:-0300
TZNAME:ADT
DTSTART:20250309T060000
END:DAYLIGHT
BEGIN:STANDARD
TZOFFSETFROM:-0300
TZOFFSETTO:-0400
TZNAME:AST
DTSTART:20251102T050000
END:STANDARD
BEGIN:DAYLIGHT
TZOFFSETFROM:-0400
TZOFFSETTO:-0300
TZNAME:ADT
DTSTART:20260308T060000
END:DAYLIGHT
BEGIN:STANDARD
TZOFFSETFROM:-0300
TZOFFSETTO:-0400
TZNAME:AST
DTSTART:20261101T050000
END:STANDARD
BEGIN:DAYLIGHT
TZOFFSETFROM:-0400
TZOFFSETTO:-0300
TZNAME:ADT
DTSTART:20270314T060000
END:DAYLIGHT
BEGIN:STANDARD
TZOFFSETFROM:-0300
TZOFFSETTO:-0400
TZNAME:AST
DTSTART:20271107T050000
END:STANDARD
END:VTIMEZONE
BEGIN:VEVENT
DTSTART;VALUE=DATE:20260116
DTEND;VALUE=DATE:20260117
DTSTAMP:20260419T091215
CREATED:20251210T203242Z
LAST-MODIFIED:20251211T144140Z
UID:10000029-1768521600-1768607999@www.greenschoolsns.ca
SUMMARY:Fri-YAY Group Webinar – Life Before Electricity
DESCRIPTION:⚡️ Fri-YAY: Life Before Electricity ⚡️ \nExplore what life was like before electricity! We will dive into the past to see how our previous way of life can give us ideas on how we can save electricity today! 🕰️ \nWhere do we use electricity? Where does it come from? What was different back then compared to now? All of these questions and more will be answered in this interactive group webinar! \nSIGN UP HERE!
URL:https://www.greenschoolsns.ca/event/fri-yay-group-webinar-life-before-electricity/
CATEGORIES:Fri-YAY Group Webinar
END:VEVENT
END:VCALENDAR